BEGIN:VCALENDAR
VERSION:2.0
PRODID:-//eventon.com NONSGML v1.0//EN
BEGIN:VEVENT
UID:69e72fa533ea8
DTSTAMP:20260421T100453
DTSTART:20251116T050000Z
DTEND:20251116T105000Z
TZID:Pacific/Midway
LOCATION:Aula Bielstein Weiherhofweg 22
SUMMARY:Proklamation
DESCRIPTION: Proklamation\nhttps://kv-bielstein.de/events/kick-off-kapaaf-party/
URL:https://kv-bielstein.de/events/kick-off-kapaaf-party/
END:VEVENT
END:VCALENDAR